BEGIN:VCALENDAR
VERSION:2.0
PRODID:-//RMHGHV - ECPv6.15.20//NONSGML v1.0//EN
CALSCALE:GREGORIAN
METHOD:PUBLISH
X-WR-CALNAME:RMHGHV
X-ORIGINAL-URL:https://rmh-ghv.org
X-WR-CALDESC:Events for RMHGHV
REFRESH-INTERVAL;VALUE=DURATION:PT1H
X-Robots-Tag:noindex
X-PUBLISHED-TTL:PT1H
BEGIN:VTIMEZONE
TZID:America/New_York
BEGIN:DAYLIGHT
TZOFFSETFROM:-0500
TZOFFSETTO:-0400
TZNAME:EDT
DTSTART:20250309T070000
END:DAYLIGHT
BEGIN:STANDARD
TZOFFSETFROM:-0400
TZOFFSETTO:-0500
TZNAME:EST
DTSTART:20251102T060000
END:STANDARD
BEGIN:DAYLIGHT
TZOFFSETFROM:-0500
TZOFFSETTO:-0400
TZNAME:EDT
DTSTART:20260308T070000
END:DAYLIGHT
BEGIN:STANDARD
TZOFFSETFROM:-0400
TZOFFSETTO:-0500
TZNAME:EST
DTSTART:20261101T060000
END:STANDARD
BEGIN:DAYLIGHT
TZOFFSETFROM:-0500
TZOFFSETTO:-0400
TZNAME:EDT
DTSTART:20270314T070000
END:DAYLIGHT
BEGIN:STANDARD
TZOFFSETFROM:-0400
TZOFFSETTO:-0500
TZNAME:EST
DTSTART:20271107T060000
END:STANDARD
END:VTIMEZONE
BEGIN:VEVENT
DTSTART;TZID=America/New_York:20260411T180000
DTEND;TZID=America/New_York:20260411T210000
DTSTAMP:20260425T133711
CREATED:20260113T221805Z
LAST-MODIFIED:20260116T163914Z
UID:12548-1775930400-1775941200@rmh-ghv.org
SUMMARY:Battle Of the Badges
DESCRIPTION:All Events\n					\n																														 \nHelp us in our cause by placing an advertisement/coupon in the game journal.\nThe prices are as follows:\n\n\n							Business Card:\n																			$75\n				\n\n							1⁄4 Page:\n																			$125\n				\n\n							1⁄2 Page:\n																			$250\n				\n\n							Full Page:\n																			$500\n				\n\n							Inside Cover:\n																			$750\n				\n\n							Back Cover:\n																			$1000\n				\n\n*Email PDF advertisement files by March 15th\nto skukis@whiteplainsny.gov\n*Checks payable to W.P.P.F.F. – remit no later than March 15th to: \nStation #7\nATTN: CHARITY CUP \n665 North St \nWhite Plains\, NY 10605
URL:https://rmh-ghv.org/event/battle-of-the-badges-spring/
LOCATION:Rye Playland Ice Casino\, 100 Playland Pkwy\, Rye\, 10580\, United States
CATEGORIES:Hockey
END:VEVENT
BEGIN:VEVENT
DTSTART;TZID=America/New_York:20260212T120000
DTEND;TZID=America/New_York:20260212T180000
DTSTAMP:20260425T133711
CREATED:20260107T164846Z
LAST-MODIFIED:20260116T164055Z
UID:12538-1770897600-1770919200@rmh-ghv.org
SUMMARY:Open House
DESCRIPTION:All Events\n					 \nJoin Us For An Open House\n			February 12\, 2026\n	 @\n12:00 PM\n	 –\n6:00 PM\n															\n					\n									RSVP To Join Us\n					 \nEvent Details\nOur doors are open. Learn more about our House\, our mission\, and how you can get involved. \n\n\n										February 12\, 2026\n									\n\n										12:00PM – 6:00PM\n									\n\n\n	\n	Add to calendar	\n		\n	\n \n\n\n	Google Calendar\n\n\n	iCalendar\n\n\n	Outlook 365
URL:https://rmh-ghv.org/event/open-house/
LOCATION:Ronald McDonald House Of The Greater Hudson Valley\, 80 Woods Road\, Valhalla\, NY\, 10595\, United States
CATEGORIES:House Events
END:VEVENT
END:VCALENDAR